BEGIN:VCALENDAR
VERSION:2.0
PRODID:-//Essentielle Öle - ECPv6.15.18//NONSGML v1.0//EN
CALSCALE:GREGORIAN
METHOD:PUBLISH
X-ORIGINAL-URL:https://www.essentielleoele.de
X-WR-CALDESC:Veranstaltungen für Essentielle Öle
REFRESH-INTERVAL;VALUE=DURATION:PT1H
X-Robots-Tag:noindex
X-PUBLISHED-TTL:PT1H
BEGIN:VTIMEZONE
TZID:UTC
BEGIN:STANDARD
TZOFFSETFROM:+0000
TZOFFSETTO:+0000
TZNAME:UTC
DTSTART:20200101T000000
END:STANDARD
END:VTIMEZONE
BEGIN:VEVENT
DTSTART;TZID=UTC:20210106T183000
DTEND;TZID=UTC:20210106T200000
DTSTAMP:20260423T020156
CREATED:20210104T171111Z
LAST-MODIFIED:20210104T171127Z
UID:4004-1609957800-1609963200@www.essentielleoele.de
SUMMARY:06.01.2021\, 18:30 – ca. 20:00 Uhr\, DIY-Raindrop
DESCRIPTION:Die Alternative\, zu der Öle auf Rücken und Füße aufgetragen werden. \nDu als der Empfangende(r) liegst dabei gemütlich auf der Liege. \nDoch was tun\, wenn Du niemanden hast\, der Dir eine Raindrop-Massage gibt? \nEs gibt Möglichkeiten der „Überbrückung“ ! Hilf Dir selbst – ich zeige Dir wie. \nMelde Dich bei mir unter:\nhalloessentiallife@gmail.com
URL:https://www.essentielleoele.de/event/06-01-2021-1830-ca-2000-uhr-diy-raindrop/
END:VEVENT
BEGIN:VEVENT
DTSTART;TZID=UTC:20210116T100000
DTEND;TZID=UTC:20210117T170000
DTSTAMP:20260423T020156
CREATED:20200914T135938Z
LAST-MODIFIED:20210611T110357Z
UID:3953-1610791200-1610902800@www.essentielleoele.de
SUMMARY:16. - 17.01.2021\, Raindrop-Technique® für Menschen\, Riedering
DESCRIPTION:Bitte beachte:\nDie Veranstaltung zur Raindrop-Technique® kann nicht wie geplant stattfinden! Sobald ein neuer Termin vorgesehen ist\, wird er hier veröffentlicht!\n\nAltes loslassen\, tiefe Entspannung\, Vitalisierung des Körpers.\nDie Raindrop-Technique® wurde in den 1980er Jahren von Gary Young entwickelt. \nSie ist eine entspannende und harmonisierende Anwendung an Wirbelsäule und Füßen. \nAusgewählte ätherische Öle werden dabei in einer bestimmten Reihenfolge sanft auf die Haut aufgetragen. \nKombiniert mit dem Wissen uralter Entspannungsrituale der Tibeter\, Ägypter und Lakota-Indianer.\nJeder kann sie erlernen. \nMelde Dich heute noch an und lerne:\n• Einführung in die Welt der ätherischen Öle mit wertvollen Tipps\n• Einarbeitung der ätherischen Öle mit Hilfe sanfter Grifftechniken\n• Eine sichere\, nicht-invasive\, energetisierende\, emotional und körperlich ausgleichende Anwendung \nKursgebühren: 279 € (inkl. Öle) \nWeitere Informationen unter:\nhalloessentiallife@gmail.com
URL:https://www.essentielleoele.de/event/16-17-01-2021-raindrop-technique-fuer-menschen-riedering/
CATEGORIES:Raindrop-Technique® für Menschen
END:VEVENT
END:VCALENDAR