BEGIN:VCALENDAR
VERSION:2.0
PRODID:-//Essentielle Öle - ECPv6.15.18//NONSGML v1.0//EN
CALSCALE:GREGORIAN
METHOD:PUBLISH
X-WR-CALNAME:Essentielle Öle
X-ORIGINAL-URL:https://www.essentielleoele.de
X-WR-CALDESC:Veranstaltungen für Essentielle Öle
REFRESH-INTERVAL;VALUE=DURATION:PT1H
X-Robots-Tag:noindex
X-PUBLISHED-TTL:PT1H
BEGIN:VTIMEZONE
TZID:UTC
BEGIN:STANDARD
TZOFFSETFROM:+0000
TZOFFSETTO:+0000
TZNAME:UTC
DTSTART:20190101T000000
END:STANDARD
END:VTIMEZONE
BEGIN:VEVENT
DTSTART;VALUE=DATE:20201128
DTEND;VALUE=DATE:20201130
DTSTAMP:20260423T061517
CREATED:20200211T163328Z
LAST-MODIFIED:20201015T085355Z
UID:3080-1606521600-1606694399@www.essentielleoele.de
SUMMARY:28. - 29.11.2020\, Raindrop-Technique® für Menschen
DESCRIPTION:Raindrop-Technique®\nAltes loslassen\, tiefe Entspannung und Vitalisierung des Körper\nDie Raindrop-Technique® wurde in den 1980er Jahren von Gary Young entwickelt.\nSie ist eine entspannende und harmonisierende Anwendung an\nWirbelsäule und Füßen.\nAusgewählte ätherische Öle werden dabei in einer bestimmten Reihenfolge sanft auf die Haut aufgetragen.\nKombiniert mit dem Wissen uralter Entspannungsrituale der\nTibeter\, Ägypter und Lakota-Indianer. Jeder kann sie erlernen. \nMelde Dich heute noch an und lerne:\nEinführung in die Welt der ätherischen Öle mit wertvollen Tipps\nEinarbeitung der ätherischen Öle mit Hilfe sanfter Grifftechniken\nEine sichere\, nicht-invasive\, energetisierende\, emotional und\nkörperlich ausgleichende Anwendung. \nWeitere Informationen unter:\nwww.essentielleoele.de\nhalloessentiallife@gmail.com \n 
URL:https://www.essentielleoele.de/event/28-29-11-2020-raindrop-technique-fuer-menschen/
LOCATION:Riedering\, Thalham 5\, Riedering\, Bayern\, 83083\, Deutschland
CATEGORIES:Raindrop-Technique® für Menschen
END:VEVENT
END:VCALENDAR