BEGIN:VCALENDAR
VERSION:2.0
PRODID:-//Essentielle Öle - ECPv6.15.18//NONSGML v1.0//EN
CALSCALE:GREGORIAN
METHOD:PUBLISH
X-ORIGINAL-URL:https://www.essentielleoele.de
X-WR-CALDESC:Veranstaltungen für Essentielle Öle
REFRESH-INTERVAL;VALUE=DURATION:PT1H
X-Robots-Tag:noindex
X-PUBLISHED-TTL:PT1H
BEGIN:VTIMEZONE
TZID:UTC
BEGIN:STANDARD
TZOFFSETFROM:+0000
TZOFFSETTO:+0000
TZNAME:UTC
DTSTART:20190101T000000
END:STANDARD
END:VTIMEZONE
BEGIN:VEVENT
DTSTART;TZID=UTC:20201110T190000
DTEND;TZID=UTC:20201110T220000
DTSTAMP:20260423T060659
CREATED:20200211T162844Z
LAST-MODIFIED:20200211T162940Z
UID:3077-1605034800-1605045600@www.essentielleoele.de
SUMMARY:10.11.2020\, Das Starter-Set an einem Öle-Abend
DESCRIPTION:Weitere Informationen folgen…
URL:https://www.essentielleoele.de/event/10-11-2020-das-starter-set-an-einem-oele-abend/
LOCATION:Gesundheitszentrum München\, Georgenstraße 38\, München\, Bayern\, 80799\, Deutschland
CATEGORIES:Öle-Abend,Starter-Set
END:VEVENT
END:VCALENDAR