BEGIN:VCALENDAR
VERSION:2.0
PRODID:-//Essentielle Öle - ECPv6.15.18//NONSGML v1.0//EN
CALSCALE:GREGORIAN
METHOD:PUBLISH
X-ORIGINAL-URL:https://www.essentielleoele.de
X-WR-CALDESC:Veranstaltungen für Essentielle Öle
REFRESH-INTERVAL;VALUE=DURATION:PT1H
X-Robots-Tag:noindex
X-PUBLISHED-TTL:PT1H
BEGIN:VTIMEZONE
TZID:UTC
BEGIN:STANDARD
TZOFFSETFROM:+0000
TZOFFSETTO:+0000
TZNAME:UTC
DTSTART:20190101T000000
END:STANDARD
END:VTIMEZONE
BEGIN:VEVENT
DTSTART;VALUE=DATE:20201106
DTEND;VALUE=DATE:20201109
DTSTAMP:20260423T060632
CREATED:20200211T160131Z
LAST-MODIFIED:20200211T160903Z
UID:3071-1604620800-1604879999@www.essentielleoele.de
SUMMARY:06. - 08.11.2020\, Markt der Sinne
DESCRIPTION:weitere Informationen folgen…
URL:https://www.essentielleoele.de/event/06-08-11-2020-markt-der-sinne/
LOCATION:Praterinsel\, Praterinsel\, München\, Bayern\, Deutschland
CATEGORIES:Markt der Sinne
ORGANIZER;CN="Event Fokus GmbH":MAILTO:info@markt-der-sinne.de
END:VEVENT
BEGIN:VEVENT
DTSTART;TZID=UTC:20201107T100000
DTEND;TZID=UTC:20201108T180000
DTSTAMP:20260423T060632
CREATED:20201015T080659Z
LAST-MODIFIED:20201015T083205Z
UID:3971-1604743200-1604858400@www.essentielleoele.de
SUMMARY:07. - 08.11.2020\, Raindrop-Technique® für Pferde
DESCRIPTION:Raindrop-Technique® mit ätherischen Ölen\nWir revolutionieren die Pferde- und Reiterwelt!\nEin „must have“ für dein Pferd! \nDie schönste Verbindung zwischen Mensch und Tier besteht auf der Herzensebene kaum wahrnehmbar und dennoch mit exakter Resonanz.\nDie Arbeit mit den essentiellen Ölen besten Grades unterstreicht diese Resonanz und öffnet Tore.\nDas Seminar zeigt den Umgang mit ätherischen Ölen und die vielseitigen Einsatzmöglichkeiten.  \nZiel: die einfache und sichere Anwendung ätherischer Öle. \nDie Raindrop-Technique®\nist eine Kombination aus wiederentdeckten pflanzlichen Wirkstoffen und Grifftechniken aus unterschiedlichen Regionen der Erde. Hinzu kam das alte Wissen für ihre treuen Begleiter der Lakota Indianer.\nGary Young formte in den 1980er Jahren mit großer Achtsamkeit und Feingefühl daraus die Raindrop-Technique®. \nGesunde Nebenwirkung wie: \nnatürlicher Zeckenschutz\, Pflege\, Training\, Stress\, Verladen\, Immunsystem fördern\, Atemwege\, Bewegungsapparat\, Magen\, Darm\, Stoffwechsel\, Haut\, Haar\, Augen und einiges mehr sind die Themen\, die wir ansprechen werden! \nVeranstaltungsort:\nPatricia Rickmeyer\nThalham 5\n83083 Riedering\, Bayern\nPreise und Anmeldung unter:\nhalloessentiallife@gmail.com
URL:https://www.essentielleoele.de/event/07-08-11-2020-raindrop-technique-fuer-pferde/
LOCATION:Riedering\, Thalham 5\, Riedering\, Bayern\, 83083\, Deutschland
CATEGORIES:Raindrop-Technique® für Pferde
END:VEVENT
END:VCALENDAR